BEGIN:VCALENDAR
PRODID:-//AT Content Types//AT Event//EN
VERSION:1.0
BEGIN:VEVENT
DTSTART:20260510T090000Z
DTEND:20260510T103000Z
DCREATED:20260305T161927Z
UID:ATEvent-23383dad7ebb4ed3abd637fa35cb2d3e
SEQUENCE:0
LAST-MODIFIED:20260305T162729Z
SUMMARY:Bausinger Matinee: 100 Jahre Hermann Bausinger
DESCRIPTION:Matinee im 100. Geburtsjahr von Hermann Bausinger
LOCATION:Erdgeschoss
PRIORITY:3
TRANSP:0
END:VEVENT
END:VCALENDAR
