BEGIN:VCALENDAR
PRODID:-//AT Content Types//AT Event//EN
VERSION:2.0
METHOD:PUBLISH
BEGIN:VEVENT
DTSTAMP:20260425T022648Z
CREATED:20241016T091941Z
UID:ATEvent-e4fc2038db7b4139b3a365ab8af9a03b
LAST-MODIFIED:20251121T082515Z
SUMMARY:BibCafé
DTSTART:20260212T160000Z
DTEND:20260212T173000Z
DESCRIPTION:Angebot für DaF-Sprachkurslehrer/innen und alle haupt- un
 d ehrenamtlichen Unterstützer/innen von Deutschlernenden.
LOCATION:Treffpunkt: Erdgeschoss
CATEGORIES:Hauptstelle, Erwachsenenbibliothek
CLASS:PUBLIC
END:VEVENT
END:VCALENDAR
