BEGIN:VCALENDAR
PRODID:-//AT Content Types//AT Event//EN
VERSION:2.0
METHOD:PUBLISH
BEGIN:VEVENT
DTSTAMP:20260423T150258Z
CREATED:20260423T111635Z
UID:ATEvent-19b29b7b192644bca3a21826372d6db2
LAST-MODIFIED:20260423T111719Z
SUMMARY:Bibliothek beim Büchermarkt
DTSTART:20260613T090000Z
DTEND:20260613T130000Z
DESCRIPTION:Büchermarkt auf dem Leonhardsplatz
LOCATION:Leonhardsplatz
CATEGORIES:Jugendbibliothek, Hauptstelle, Kinderbibliothek, Erwachsenenbibliothek
CLASS:PUBLIC
END:VEVENT
END:VCALENDAR
