BEGIN:VCALENDAR
PRODID:-//AT Content Types//AT Event//EN
VERSION:1.0
BEGIN:VEVENT
DTSTART:20260210T143000Z
DTEND:20260210T150000Z
DCREATED:20250314T120143Z
UID:ATEvent-faaceae111ab4190bd6f5c25c37a5288
SEQUENCE:0
LAST-MODIFIED:20260107T110431Z
SUMMARY:AUSGEBUCHT! - Conni ist wütend
DESCRIPTION:Geschichten im Bilderbuch-Kino
LOCATION:Kinderbibliothek
PRIORITY:3
TRANSP:0
END:VEVENT
END:VCALENDAR
