BEGIN:VCALENDAR
PRODID:-//AT Content Types//AT Event//EN
VERSION:1.0
BEGIN:VEVENT
DTSTART:20260504T090000Z
DTEND:20260504T100000Z
DCREATED:20260310T173826Z
UID:ATEvent-cc699ef0719a4f2bb0072cb5cb36208d
SEQUENCE:0
LAST-MODIFIED:20260325T094930Z
SUMMARY:AUSGEBUCHT! - Lesung mit Christian Tielmann
DESCRIPTION:Lesung für Schulklassen
LOCATION:Großes Studio
PRIORITY:3
TRANSP:0
END:VEVENT
END:VCALENDAR
