BEGIN:VCALENDAR
PRODID:-//AT Content Types//AT Event//EN
VERSION:1.0
BEGIN:VEVENT
DTSTART:20260624T150000Z
DTEND:20260624T160000Z
DCREATED:20260320T110714Z
UID:ATEvent-1e5ab8e11af849afbca4172ec4288aad
SEQUENCE:0
LAST-MODIFIED:20260325T111703Z
SUMMARY:Musikstunde
DESCRIPTION:Neue und interessante Musikangebote
LOCATION:Musikbibliothek
PRIORITY:3
TRANSP:0
END:VEVENT
END:VCALENDAR
