BEGIN:VCALENDAR
PRODID:-//AT Content Types//AT Event//EN
VERSION:2.0
METHOD:PUBLISH
BEGIN:VEVENT
DTSTAMP:20260419T090830Z
CREATED:20251216T092328Z
UID:ATEvent-1a402dd1f74f412ebd3daa810a692044
LAST-MODIFIED:20251222T102310Z
SUMMARY:Lesung mit Henrick Clausing
DTSTART:20260320T100000Z
DTEND:20260320T111000Z
DESCRIPTION:Bereits vereinbarte Gruppenveranstaltung.
LOCATION:Zweigstelle Gönningen
CATEGORIES:Zweigstelle Gönningen, Zweigstellen
CLASS:PUBLIC
END:VEVENT
END:VCALENDAR
